BEGIN:VCALENDAR
VERSION:2.0
PRODID:-//CLARIN Switzerland - ECPv6.15.15//NONSGML v1.0//EN
CALSCALE:GREGORIAN
METHOD:PUBLISH
X-WR-CALNAME:CLARIN Switzerland
X-ORIGINAL-URL:https://clarin-ch.ch
X-WR-CALDESC:Events for CLARIN Switzerland
REFRESH-INTERVAL;VALUE=DURATION:PT1H
X-Robots-Tag:noindex
X-PUBLISHED-TTL:PT1H
BEGIN:VTIMEZONE
TZID:Europe/Zurich
BEGIN:DAYLIGHT
TZOFFSETFROM:+0100
TZOFFSETTO:+0200
TZNAME:CEST
DTSTART:20240331T010000
END:DAYLIGHT
BEGIN:STANDARD
TZOFFSETFROM:+0200
TZOFFSETTO:+0100
TZNAME:CET
DTSTART:20241027T010000
END:STANDARD
BEGIN:DAYLIGHT
TZOFFSETFROM:+0100
TZOFFSETTO:+0200
TZNAME:CEST
DTSTART:20250330T010000
END:DAYLIGHT
BEGIN:STANDARD
TZOFFSETFROM:+0200
TZOFFSETTO:+0100
TZNAME:CET
DTSTART:20251026T010000
END:STANDARD
BEGIN:DAYLIGHT
TZOFFSETFROM:+0100
TZOFFSETTO:+0200
TZNAME:CEST
DTSTART:20260329T010000
END:DAYLIGHT
BEGIN:STANDARD
TZOFFSETFROM:+0200
TZOFFSETTO:+0100
TZNAME:CET
DTSTART:20261025T010000
END:STANDARD
END:VTIMEZONE
BEGIN:VEVENT
DTSTART;TZID=Europe/Zurich:20250930T160000
DTEND;TZID=Europe/Zurich:20250930T190000
DTSTAMP:20260425T225456
CREATED:20250812T101757Z
LAST-MODIFIED:20250812T101902Z
UID:7648-1759248000-1759258800@clarin-ch.ch
SUMMARY:Anniversary: five years LiZZ and LiRI
DESCRIPTION:On September 30\, 2025\, the Zurich Centre for Linguistics (LiZZ) and the Linguistic Research Infrastructure (LiRI) are celebrating their five-year anniversary. Use the chance to get in touch with the language experts up close and listen to exciting speeches from professors engaged in language research. \n \nAfter the speeches\, a poster session and an apéro will facilitate the fruitful exchange of participants and researchers alike. For more information visit the official event page.
URL:https://clarin-ch.ch/event/anniversary-five-years-lizz-and-liri/
LOCATION:RAA-G-01\, Rämistrasse 59\, 8001 Zürich\, Zurich\, Zurich\, 8001\, Switzerland
CATEGORIES:Anniversary
ORGANIZER;CN="LiZZ/LiRI":MAILTO:info@linguistik.uzh.ch
END:VEVENT
END:VCALENDAR