BEGIN:VCALENDAR
VERSION:2.0
PRODID:-//CLARIN Switzerland - ECPv6.15.15//NONSGML v1.0//EN
CALSCALE:GREGORIAN
METHOD:PUBLISH
X-ORIGINAL-URL:https://clarin-ch.ch
X-WR-CALDESC:Events for CLARIN Switzerland
REFRESH-INTERVAL;VALUE=DURATION:PT1H
X-Robots-Tag:noindex
X-PUBLISHED-TTL:PT1H
BEGIN:VTIMEZONE
TZID:Europe/Zurich
BEGIN:DAYLIGHT
TZOFFSETFROM:+0100
TZOFFSETTO:+0200
TZNAME:CEST
DTSTART:20240331T010000
END:DAYLIGHT
BEGIN:STANDARD
TZOFFSETFROM:+0200
TZOFFSETTO:+0100
TZNAME:CET
DTSTART:20241027T010000
END:STANDARD
BEGIN:DAYLIGHT
TZOFFSETFROM:+0100
TZOFFSETTO:+0200
TZNAME:CEST
DTSTART:20250330T010000
END:DAYLIGHT
BEGIN:STANDARD
TZOFFSETFROM:+0200
TZOFFSETTO:+0100
TZNAME:CET
DTSTART:20251026T010000
END:STANDARD
BEGIN:DAYLIGHT
TZOFFSETFROM:+0100
TZOFFSETTO:+0200
TZNAME:CEST
DTSTART:20260329T010000
END:DAYLIGHT
BEGIN:STANDARD
TZOFFSETFROM:+0200
TZOFFSETTO:+0100
TZNAME:CET
DTSTART:20261025T010000
END:STANDARD
END:VTIMEZONE
BEGIN:VEVENT
DTSTART;VALUE=DATE:20251121
DTEND;VALUE=DATE:20251122
DTSTAMP:20260425T210415
CREATED:20250520T144323Z
LAST-MODIFIED:20251104T081449Z
UID:6870-1763683200-1763769599@clarin-ch.ch
SUMMARY:Swiss Learner Corpora and SLA workshop
DESCRIPTION:Working group workshop at UNIFR\n \nThe CLARIN-CH Learner Corpora and SLA working group \nThe working group is pleased to announce that on Friday\, 21 November 2025\, a workshop will be held at the University of Fribourg. \nThe workshop will focus on presenting and discussing the results of the learner corpora survey. The aim of the survey was to identify existing learner corpora in Switzerland\, determine which are publicly accessible\, understand their barriers and explore ways to facilitate their availability. \nThe workshop will feature contributions from the members of the working group in the form of presentations. \nCheck the programme and register for the event.
URL:https://clarin-ch.ch/event/sla-workshop-unifr/
LOCATION:Institut de plurilinguisme\, Rue de Morat 24\, Fribourg\, Fribourg\, 1700\, Switzerland
CATEGORIES:CLARIN-CH Events
END:VEVENT
BEGIN:VEVENT
DTSTART;TZID=Europe/Zurich:20251031T153000
DTEND;TZID=Europe/Zurich:20251031T170000
DTSTAMP:20260425T210415
CREATED:20250819T091955Z
LAST-MODIFIED:20251007T092459Z
UID:7711-1761924600-1761930000@clarin-ch.ch
SUMMARY:Research Data Management Working Group: onsite kick-off workshop
DESCRIPTION:  \n \n  \nThe Research Data Management Working Group for language data (RDM) will meet for their first onsite kick-off workshop during the CLARIN-CH Day 2025\, on October 31 at 5pm. \nThe kick-off has been fully integrated into the CLARIN-CH Day. All interested colleagues are invited to join the CLARIN-CH Day. Register for the CLARIN-CH Day 2025 \n 
URL:https://clarin-ch.ch/event/research-data-management-working-group-onsite-kick-off-workshop/
LOCATION:UNIL: Université de Lausanne\, Quartier Centre\, Lausanne\, Vaud\, 1015\, Switzerland
CATEGORIES:CLARIN-CH Events,Workshop
END:VEVENT
BEGIN:VEVENT
DTSTART;VALUE=DATE:20251031
DTEND;VALUE=DATE:20251101
DTSTAMP:20260425T210415
CREATED:20250617T131914Z
LAST-MODIFIED:20251013T120314Z
UID:7153-1761868800-1761955199@clarin-ch.ch
SUMMARY:CLARIN-CH Day 2025
DESCRIPTION:From challenges to progress: FAIR compliance and digital methods across the lifecycle of language data\nFor more detailled information visit this page: \nCLARIN-CH Day 2025\nCLARIN-CH Day 2025 continues the dialogue initiated during the CLARIN-CH Day 2024 edition\, bringing together researchers\, data specialists\, and legal experts to explore the evolving landscape of Open Research Data in linguistics and related disciplines. \nThis year’s event will focus on two central themes: advancing FAIR compliance (Findable\, Accessible\, Interoperable\, Reusable) for language data and tools\, and integrating digital methods and tools to support researchers at every stage of the data lifecycle—from data creation and curation to sharing and reuse. \n \nThe event will revisit the key challenges identified in 2024 and will provide a platform for researchers to present newly emerging challenges encountered in working with language data\, both within and beyond linguistic research. \nThrough project updates\, data pitches\, expert panels\, and collaborative discussions\, CLARIN-CH Day 2025 aims to deepen the exchange between communities\, spotlight innovative tools and solutions\, and strengthen the infrastructure and support network for responsible and sustainable data practices within the CLARIN-CH ecosystem. \nFor more information\, the programme\, submission\, and registration visit this page: \nCLARIN-CH Day 2025
URL:https://clarin-ch.ch/event/clarin-ch-day-2025/
LOCATION:UNIL: Anthropole\, Anthropole\, Chavannes-près Renens\, Lausanne\, Lausanne\, 1015\, Switzerland
CATEGORIES:CLARIN-CH Events
END:VEVENT
BEGIN:VEVENT
DTSTART;TZID=Europe/Zurich:20250929T130000
DTEND;TZID=Europe/Zurich:20250929T140000
DTSTAMP:20260425T210415
CREATED:20250819T083914Z
LAST-MODIFIED:20250929T082551Z
UID:7701-1759150800-1759154400@clarin-ch.ch
SUMMARY:Research Data Management Working Group: online preparatory meeting
DESCRIPTION:On September 29 from 1pm\, the Research Data Management Working Group (RDM) will meet online for a preparatory meeting. \nPlease register until September 26 at 5pm. The Zoom link will be sent upon registration.
URL:https://clarin-ch.ch/event/research-data-management-working-group-online-preparatory-meeting/
LOCATION:CLARIN virtual Zoom meeting
CATEGORIES:CLARIN-CH Events
END:VEVENT
END:VCALENDAR