BEGIN:VCALENDAR
VERSION:2.0
PRODID:-//CLARIN Switzerland - ECPv6.15.15//NONSGML v1.0//EN
CALSCALE:GREGORIAN
METHOD:PUBLISH
X-WR-CALNAME:CLARIN Switzerland
X-ORIGINAL-URL:https://clarin-ch.ch
X-WR-CALDESC:Events for CLARIN Switzerland
REFRESH-INTERVAL;VALUE=DURATION:PT1H
X-Robots-Tag:noindex
X-PUBLISHED-TTL:PT1H
BEGIN:VTIMEZONE
TZID:Europe/Zurich
BEGIN:DAYLIGHT
TZOFFSETFROM:+0100
TZOFFSETTO:+0200
TZNAME:CEST
DTSTART:20250330T010000
END:DAYLIGHT
BEGIN:STANDARD
TZOFFSETFROM:+0200
TZOFFSETTO:+0100
TZNAME:CET
DTSTART:20251026T010000
END:STANDARD
BEGIN:DAYLIGHT
TZOFFSETFROM:+0100
TZOFFSETTO:+0200
TZNAME:CEST
DTSTART:20260329T010000
END:DAYLIGHT
BEGIN:STANDARD
TZOFFSETFROM:+0200
TZOFFSETTO:+0100
TZNAME:CET
DTSTART:20261025T010000
END:STANDARD
BEGIN:DAYLIGHT
TZOFFSETFROM:+0100
TZOFFSETTO:+0200
TZNAME:CEST
DTSTART:20270328T010000
END:DAYLIGHT
BEGIN:STANDARD
TZOFFSETFROM:+0200
TZOFFSETTO:+0100
TZNAME:CET
DTSTART:20271031T010000
END:STANDARD
END:VTIMEZONE
BEGIN:VEVENT
DTSTART;VALUE=DATE:20260603
DTEND;VALUE=DATE:20260604
DTSTAMP:20260426T025041
CREATED:20251013T092622Z
LAST-MODIFIED:20251013T092938Z
UID:8264-1780444800-1780531199@clarin-ch.ch
SUMMARY:Day of Swiss Linguistics 2026
DESCRIPTION:On June 03\, 2026\, the next “Day of Swiss Linguistics” will be held at USI. It is co-organized by SSG/SSL\, USI\, Osservatorio Linguistico della Svizzera italiana and the Centro di Dialettologia ed etnografia. \nDifferent areas of Swiss linguistics are brought together to foster and maintain the scientific exchange\, as was done in previous editions. The format includes short presentations and posters allowing for a wide representation of research\, particularly from young researchers. \nA call for papers with instructions will shortly be circulated. So far\, interested researchers should keep the following dates in mind: \n\nDecember 15\, 2025: Deadline for proposal submission.\nFebruray 09\, 2026: Deadline for the committe’s response.\n\nThe organising committee is looking forward to your contributions: \nSara Greco – coordination \nJohanna  Miecznikowski-Fuenfschilling\, USI \nAndrea Rocci\, USI \nMarta Trutalli\, USI \nLonneke van der Plas\, USI \nLaura Baranzini\, OLSI and USI \nMatteo Casoni\, OLSI \nSabine Christopher\, OLSI
URL:https://clarin-ch.ch/event/day-of-swiss-linguistics-2026/
LOCATION:Institute of Argumentation\, Linguistics and Semiotics\, Via Buffi 13\, Lugano\, Lugano\, 6900\, Switzerland
CATEGORIES:Conference
END:VEVENT
BEGIN:VEVENT
DTSTART;VALUE=DATE:20260609
DTEND;VALUE=DATE:20260610
DTSTAMP:20260426T025041
CREATED:20251114T100941Z
LAST-MODIFIED:20251114T100941Z
UID:8738-1780963200-1781049599@clarin-ch.ch
SUMMARY:SwissNLP Expo 2026
DESCRIPTION:On 9 June 2026\, the next SwissNLP Expo will take place at UZH. The event is co-organised by SwissNLP\, UZH\, and ZHAW. The format of the expo will take a similar form to last year’s edition with exhibition booths for both academia and industry\, multiple talk tracks\, workshops\, activities for job-seekers\, networking spaces and more. \n \nThe one-day business event in Zurich is aimed at companies\, universities\, and professionals working in Natural Language Processing (NLP) and Generative Artificial Intelligence (GenAI). The goal of the mix of exhibitions\, talks\, workshops\, and networking activities is to connect people\, ideas\, and opportunities.
URL:https://clarin-ch.ch/event/swissnlp-expo-2026/
LOCATION:University of Zurich\, Rämistrasse 71\, Zurich\, Zurich\, 8006\, Switzerland
CATEGORIES:Conference
END:VEVENT
END:VCALENDAR